BEGIN:VCALENDAR
VERSION:2.0
PRODID:-//eventon.com NONSGML v1.0//EN
CALSCALE:GREGORIAN
METHOD:PUBLISH
BEGIN:VEVENT
UID:69ec3d061ee7f
DTSTAMP:20260425T040318Z
DTSTART:20240308T190000Z
DTEND:20240309T160000Z
LOCATION:Expert Laser Center Str. Grigore Cobălcescu nr. 10\,  Sector 1
SUMMARY:ENDO LASER | 8-9 March 2024
DESCRIPTION:March 8-9 2024\,  Bucharest Laser-Powered Endodontics IlLuminat
 e &amp; Transform Root Canal Therapy &nbsp; Day 1: All Lasers in Endodontic
 sUse and Mix Wavelengths Day 2: Handle EndoComplications with LasersLaser A
 pical Surgery &nbsp; Descarcă broșura UNLOCK YOUR FUTURE! Price: 1661 Eur
 o (VAT included)* *payable in installments Certified with 2ECTS by SFU Vien
 na[..]\nhttps://www.arsmi.ro/events/endo-laser-8-9-march-2024/
URL:https://www.arsmi.ro/events/endo-laser-8-9-march-2024/
END:VEVENT
END:VCALENDAR